BEGIN:VCALENDAR
VERSION:2.0
PRODID:-//eventon.com NONSGML v1.0//EN
CALSCALE:GREGORIAN
METHOD:PUBLISH
BEGIN:VEVENT
UID:69ebb264b3622
DTSTAMP:20260424T181148Z
DTSTART:20241025
DTEND:20241026
LOCATION:Paulus Akademie Pfingstweidstrasse 28 8005 Zürich
SUMMARY:Weiterbildung «Und du so?»
DESCRIPTION:\nhttps://www.jagenda.ch/events/weiterbildung-und-du-so/
URL:https://www.jagenda.ch/events/weiterbildung-und-du-so/
END:VEVENT
END:VCALENDAR