BEGIN:VCALENDAR
VERSION:2.0
PRODID:-//eventon.com NONSGML v1.0//EN
CALSCALE:GREGORIAN
METHOD:PUBLISH
BEGIN:VEVENT
UID:69eadca2842c0
DTSTAMP:20260424T025946Z
DTSTART:20240829T200000Z
DTEND:20240830T000000Z
LOCATION:Paulus Akademie Pfingstweidstrasse 28 8005 Zürich
SUMMARY:FEJAZ 3/2024: Gewalt in Beziehungen: Digitale Grenzverletzungen und Erpressung
DESCRIPTION:FEJAZ 3/2024: Gewalt in Beziehungen: Digitale Grenzverletzungen
  und Erpressung\nhttps://www.jagenda.ch/events/fejaz-3-2024-gewalt-in-bezie
 hungen-digitale-grenzverletzungen-und-erpressung/
URL:https://www.jagenda.ch/events/fejaz-3-2024-gewalt-in-beziehungen-digitale-grenzverletzungen-und-erpressung/
END:VEVENT
END:VCALENDAR