BEGIN:VCALENDAR
VERSION:2.0
PRODID:-//eventon.com NONSGML v1.0//EN
CALSCALE:GREGORIAN
METHOD:PUBLISH
BEGIN:VEVENT
UID:69e5af50d6be8
DTSTAMP:20260420T044504Z
DTSTART:20241122T010000Z
DTEND:20241122T040000Z
LOCATION:Seuzach
SUMMARY:OJA Weinland-Treffen 5/2024
DESCRIPTION:OJA Weinland-Treffen 5/2024\nhttps://www.jagenda.ch/events/oja-
 weinland-treffen-5-2024/
URL:https://www.jagenda.ch/events/oja-weinland-treffen-5-2024/
END:VEVENT
END:VCALENDAR