BEGIN:VCALENDAR
VERSION:2.0
PRODID:-//eventon.com NONSGML v1.0//EN
CALSCALE:GREGORIAN
METHOD:PUBLISH
BEGIN:VEVENT
UID:69eac49ebefe8
DTSTAMP:20260424T011718Z
DTSTART:20240307T163000Z
DTEND:20240307T180000Z
LOCATION:Online
SUMMARY:Klimaneutrale Jugendarbeit – Nachhaltiger Konsum fördern
DESCRIPTION:Klimaneutrale Jugendarbeit – Nachhaltiger Konsum fördern\nht
 tps://www.jagenda.ch/events/klimaneutrale-jugendarbeit-nachhaltiger-konsum-
 foerdern/
URL:https://www.jagenda.ch/events/klimaneutrale-jugendarbeit-nachhaltiger-konsum-foerdern/
END:VEVENT
END:VCALENDAR