BEGIN:VCALENDAR
VERSION:2.0
PRODID:-//eventon.com NONSGML v1.0//EN
CALSCALE:GREGORIAN
METHOD:PUBLISH
BEGIN:VEVENT
UID:69e97d7b6810e
DTSTAMP:20260423T020131Z
DTSTART:20240823
DTEND:20240824
LOCATION:Andelfingen
SUMMARY:KONEKTA
DESCRIPTION:KONEKTA\nhttps://www.jagenda.ch/events/konekta/
URL:https://www.jagenda.ch/events/konekta/
END:VEVENT
END:VCALENDAR