BEGIN:VCALENDAR
VERSION:2.0
PRODID:-//eventon.com NONSGML v1.0//EN
CALSCALE:GREGORIAN
METHOD:PUBLISH
BEGIN:VEVENT
UID:69e9452c7f5c9
DTSTAMP:20260422T220116Z
DTSTART:20241221
DTEND:20241222
LOCATION:folgt
SUMMARY:Ranfttreffen 2024
DESCRIPTION:Ranfttreffen 2024\nhttps://www.jagenda.ch/events/ranfttreffen-2
 024/
URL:https://www.jagenda.ch/events/ranfttreffen-2024/
END:VEVENT
END:VCALENDAR