BEGIN:VCALENDAR
VERSION:2.0
PRODID:-//eventon.com NONSGML v1.0//EN
CALSCALE:GREGORIAN
METHOD:PUBLISH
BEGIN:VEVENT
UID:69e7ebae51ece
DTSTAMP:20260421T212710Z
DTSTART:20240216T090000Z
DTEND:20240216T110000Z
LOCATION:Zürich
SUMMARY:Fachgruppe Arbeit mit Mädchen FAM 1/2024
DESCRIPTION:Fachgruppe Arbeit mit Mädchen FAM 1/2024\nhttps://www.jagenda.
 ch/events/fachgruppe-arbeit-mit-maedchen-fam-1-2024/
URL:https://www.jagenda.ch/events/fachgruppe-arbeit-mit-maedchen-fam-1-2024/
END:VEVENT
END:VCALENDAR