BEGIN:VCALENDAR
VERSION:2.0
PRODID:-//eventon.com NONSGML v1.0//EN
CALSCALE:GREGORIAN
METHOD:PUBLISH
BEGIN:VEVENT
UID:69e830c438a80
DTSTAMP:20260422T022156Z
DTSTART:20240321T080000Z
DTEND:20240321T110000Z
LOCATION:Bodengasse 1 8803 Rüschlikon
SUMMARY:RAGJ-Treffen 1/2024
DESCRIPTION:RAGJ-Treffen 1/2024\nhttps://www.jagenda.ch/events/ragj-treffen
 -1-2024/
URL:https://www.jagenda.ch/events/ragj-treffen-1-2024/
END:VEVENT
END:VCALENDAR