BEGIN:VCALENDAR
VERSION:2.0
PRODID:-//eventon.com NONSGML v1.0//EN
CALSCALE:GREGORIAN
METHOD:PUBLISH
BEGIN:VEVENT
UID:69e977030c7e1
DTSTAMP:20260423T013355Z
DTSTART:20241121T123000Z
DTEND:20241121T143000Z
LOCATION:Bülach
SUMMARY:JADIBU-Treffen 4/2024
DESCRIPTION:JADIBU-Treffen 4/2024\nhttps://www.jagenda.ch/events/jadibu-tre
 ffen-4-2024/
URL:https://www.jagenda.ch/events/jadibu-treffen-4-2024/
END:VEVENT
END:VCALENDAR