BEGIN:VCALENDAR
VERSION:2.0
PRODID:-//eventon.com NONSGML v1.0//EN
CALSCALE:GREGORIAN
METHOD:PUBLISH
BEGIN:VEVENT
UID:69e8956d0230e
DTSTAMP:20260422T093125Z
DTSTART:20231115T203000Z
DTEND:20231115T223000Z
LOCATION:Jugendhaus Oberwil
SUMMARY:OKJAusbildung
DESCRIPTION:OKJAusbildung\nhttps://www.jagenda.ch/events/okjausbildung-14/
URL:https://www.jagenda.ch/events/okjausbildung-14/
END:VEVENT
END:VCALENDAR