BEGIN:VCALENDAR
VERSION:2.0
PRODID:-//eventon.com NONSGML v1.0//EN
CALSCALE:GREGORIAN
METHOD:PUBLISH
BEGIN:VEVENT
UID:69eaec7dc5108
DTSTAMP:20260424T040725Z
DTSTART:20230914T200000Z
DTEND:20230914T223000Z
LOCATION:Luzern
SUMMARY:FG Sozialraum Öffentlicher Fachinput
DESCRIPTION:FG Sozialraum Öffentlicher Fachinput\nhttps://www.jagenda.ch/e
 vents/fg-sozialraum-oeffentlicher-fachinput/
URL:https://www.jagenda.ch/events/fg-sozialraum-oeffentlicher-fachinput/
END:VEVENT
END:VCALENDAR