BEGIN:VCALENDAR
VERSION:2.0
PRODID:-//eventon.com NONSGML v1.0//EN
CALSCALE:GREGORIAN
METHOD:PUBLISH
BEGIN:VEVENT
UID:69eb4bb4c6f86
DTSTAMP:20260424T105340Z
DTSTART:20231109T203000Z
DTEND:20231109T230000Z
LOCATION:Bassersdorf
SUMMARY:Fachgruppe Beratung OKJA 5/2023
DESCRIPTION:Fachgruppe Beratung OKJA 5/2023\nhttps://www.jagenda.ch/events/
 fachgruppe-beratung-okja-5-2023/
URL:https://www.jagenda.ch/events/fachgruppe-beratung-okja-5-2023/
END:VEVENT
END:VCALENDAR